BEGIN:VCALENDAR
VERSION:2.0
PRODID:-//Squarespace Inc/Squarespace 6//v6//EN
BEGIN:VEVENT
UID:5e3a156ad29b7f336ba87751@squarespace.com
DTSTAMP:20200505T012940Z
DTSTART:20200228T233000Z
DTEND:20200426T063000Z
SUMMARY:STEEL: art design architecture 
END:VEVENT
END:VCALENDAR
