BEGIN:VCALENDAR
VERSION:2.0
PRODID:-//Squarespace Inc/Squarespace 6//v6//EN
BEGIN:VEVENT
UID:5eb0c0e177b2a76e9013d81e@squarespace.com
DTSTAMP:20200505T012833Z
DTSTART:20200228T233000Z
DTEND:20200426T063000Z
SUMMARY:BEYOND THE HORIZON: NATHAN MODRA
END:VEVENT
END:VCALENDAR
