BEGIN:VCALENDAR
VERSION:2.0
PRODID:-//Squarespace Inc/Squarespace 6//v6//EN
BEGIN:VEVENT
UID:5fb077821cc5cc6622a28fbb@squarespace.com
DTSTAMP:20201218T062449Z
DTSTART:20201204T233000Z
DTEND:20210117T040000Z
SUMMARY:TERMINUS
GEO:-35.117387;139.275653
LOCATION:Murray Bridge Regional Gallery\, 27 Sixth Street\, Murray Bridge\, 
 SA\, 5253\, Australia
END:VEVENT
END:VCALENDAR
