BEGIN:VCALENDAR
VERSION:2.0
PRODID:-//Squarespace Inc/Squarespace 6//v6//EN
BEGIN:VEVENT
UID:5fbb47c560ed88028bf1f1cb@squarespace.com
DTSTAMP:20201201T050004Z
DTSTART:20201024T003000Z
DTEND:20201129T053000Z
SUMMARY:2020 Rotary Youth Art Prize
GEO:-35.117387;139.275653
LOCATION:Murray Bridge Regional Gallery\, 27 Sixth Street\, Murray Bridge\, 
 SA\, 5253\, Australia
END:VEVENT
END:VCALENDAR
