BEGIN:VCALENDAR
VERSION:2.0
PRODID:-//Squarespace Inc/Squarespace 6//v6//EN
BEGIN:VEVENT
UID:5e2136c54c57ec0e6011a562@squarespace.com
DTSTAMP:20200301T155541Z
DTSTART:20200116T233000Z
DTEND:20200223T053000Z
SUMMARY:URBAN CYCLES
END:VEVENT
END:VCALENDAR
