BEGIN:VCALENDAR
VERSION:2.0
PRODID:-//Squarespace Inc/Squarespace 6//v6//EN
BEGIN:VEVENT
UID:5ded98f7af06d83e3e5b21ec@squarespace.com
DTSTAMP:20200105T223732Z
DTSTART:20200116T233000Z
DTEND:20200223T053000Z
SUMMARY:DRAWN TOGETHER
END:VEVENT
END:VCALENDAR
