BEGIN:VCALENDAR
VERSION:2.0
PRODID:-//Squarespace Inc/Squarespace 6//v6//EN
BEGIN:VEVENT
UID:5ded8debac43c868ac3d6428@squarespace.com
DTSTAMP:20200106T010503Z
DTSTART:20200116T233000Z
DTEND:20200223T053000Z
SUMMARY:BIRDZ: Stephen Oatway
END:VEVENT
END:VCALENDAR
