BEGIN:VCALENDAR
VERSION:2.0
PRODID:-//Squarespace Inc/Squarespace 6//v6//EN
BEGIN:VEVENT
UID:5d8235936fa44401d47fb5bd@squarespace.com
DTSTAMP:20191021T032002Z
DTSTART:20190914T003000Z
DTEND:20191103T053000Z
SUMMARY:WEAPONS FOR THE SOLDIER: Protecting Country\, Culture and Family
END:VEVENT
END:VCALENDAR
