BEGIN:VCALENDAR
VERSION:2.0
PRODID:-//Squarespace Inc/Squarespace 6//v6//EN
BEGIN:VEVENT
UID:5d3e4a106c386400017ba906@squarespace.com
DTSTAMP:20190729T022147Z
DTSTART:20190727T003000Z
DTEND:20190908T063000Z
SUMMARY:DEEP END: JULIE FRAHM
END:VEVENT
END:VCALENDAR
