BEGIN:VCALENDAR
VERSION:2.0
PRODID:-//Squarespace Inc/Squarespace 6//v6//EN
BEGIN:VEVENT
UID:5c9ac15af4e1fc7053a06dcc@squarespace.com
DTSTAMP:20190327T040644Z
DTSTART:20190413T003000Z
DTEND:20190526T063000Z
SUMMARY:Robyn Stacey: Ray of Light
END:VEVENT
END:VCALENDAR
