BEGIN:VCALENDAR
VERSION:2.0
PRODID:-//Squarespace Inc/Squarespace 6//v6//EN
BEGIN:VEVENT
UID:5c9ad802ee6eb0437548514d@squarespace.com
DTSTAMP:20190416T013102Z
DTSTART:20190413T003000Z
DTEND:20190526T063000Z
SUMMARY:Brush Strokes
END:VEVENT
END:VCALENDAR
