BEGIN:VCALENDAR
VERSION:2.0
PRODID:-//Squarespace Inc/Squarespace 6//v6//EN
BEGIN:VEVENT
UID:5c672715e2c4838374be1337@squarespace.com
DTSTAMP:20190215T213303Z
DTSTART:20190208T233000Z
DTEND:20190317T053000Z
SUMMARY:Kunyi June Anne McInerney: My Paintings Speak For Me
END:VEVENT
END:VCALENDAR
