BEGIN:VCALENDAR
VERSION:2.0
PRODID:-//Squarespace Inc/Squarespace 6//v6//EN
BEGIN:VEVENT
UID:5c9abf263c7a0b0001eb992f@squarespace.com
DTSTAMP:20190327T032239Z
DTSTART:20190321T233000Z
DTEND:20190407T063000Z
SUMMARY:29th Murray Bridge Rotary Art Show
END:VEVENT
END:VCALENDAR
