BEGIN:VCALENDAR
VERSION:2.0
PRODID:-//Squarespace Inc/Squarespace 6//v6//EN
BEGIN:VEVENT
UID:5aeab0781ae6cf4e529caec0@squarespace.com
DTSTAMP:20180907T224736Z
DTSTART:20180915T003100Z
DTEND:20181021T053100Z
SUMMARY:Magic Zine: YOU ARE ART
END:VEVENT
END:VCALENDAR
