BEGIN:VCALENDAR
VERSION:2.0
PRODID:-//Squarespace Inc/Squarespace 6//v6//EN
BEGIN:VEVENT
UID:5a3c48399140b7cd5731e19b@squarespace.com
DTSTAMP:20180913T002147Z
DTSTART:20180727T003000Z
DTEND:20180909T063000Z
SUMMARY:CATHERINE TRUMAN: NO SURFACE HOLDS. JAMFACTORY ICON 2017
END:VEVENT
END:VCALENDAR
