BEGIN:VCALENDAR
VERSION:2.0
PRODID:-//Squarespace Inc/Squarespace 6//v6//EN
BEGIN:VEVENT
UID:5afa5c8a03ce64e94555300f@squarespace.com
DTSTAMP:20180706T045223Z
DTSTART:20180615T003100Z
DTEND:20180722T063000Z
SUMMARY:WHAT PRIVILEGE - THE COLONY
END:VEVENT
END:VCALENDAR
