BEGIN:VCALENDAR
VERSION:2.0
PRODID:-//Squarespace Inc/Squarespace 6//v6//EN
BEGIN:VEVENT
UID:5a8e41c153450a4c0a8a8bf3@squarespace.com
DTSTAMP:20180525T054459Z
DTSTART:20180615T003000Z
DTEND:20180722T063000Z
SUMMARY:WHAT PRIVILEGE - THE UNITY OF OPPRESSION
END:VEVENT
END:VCALENDAR
