BEGIN:VCALENDAR
VERSION:2.0
PRODID:-//Squarespace Inc/Squarespace 6//v6//EN
BEGIN:VEVENT
UID:5b20c222aa4a9940a9077f96@squarespace.com
DTSTAMP:20180626T235931Z
DTSTART:20180615T003200Z
DTEND:20180729T063000Z
SUMMARY:NGANAWI NGARRINDJERI KRINGKARI NGOPPEN - My Ngarrindjeri White Walk
END:VEVENT
END:VCALENDAR
