BEGIN:VCALENDAR
VERSION:2.0
PRODID:-//Squarespace Inc/Squarespace 6//v6//EN
BEGIN:VEVENT
UID:5a3b531b71c10b359f58e6cc@squarespace.com
DTSTAMP:20180507T041533Z
DTSTART:20180504T003000Z
DTEND:20180610T063000Z
SUMMARY:WOMEN OF RIVER COUNTRY
END:VEVENT
END:VCALENDAR
