BEGIN:VCALENDAR
VERSION:2.0
PRODID:-//Squarespace Inc/Squarespace 6//v6//EN
BEGIN:VEVENT
UID:5a3b50f00d9297fbaa79b410@squarespace.com
DTSTAMP:20180507T041453Z
DTSTART:20180504T003000Z
DTEND:20180610T063000Z
SUMMARY:WLADYSLAW DUTKIEWICZ: 100th ANNIVERSARY EXHIBITION
END:VEVENT
END:VCALENDAR
