BEGIN:VCALENDAR
VERSION:2.0
PRODID:-//Squarespace Inc/Squarespace 6//v6//EN
BEGIN:VEVENT
UID:5a3b483ee4966b8e2d324d94@squarespace.com
DTSTAMP:20180226T060356Z
DTSTART:20180301T233000Z
DTEND:20180429T063000Z
SUMMARY:REMEMBER ME: THE LOST DIGGERS OF VIGNACOURT
END:VEVENT
END:VCALENDAR
