BEGIN:VCALENDAR
VERSION:2.0
PRODID:-//Squarespace Inc/Squarespace 6//v6//EN
BEGIN:VEVENT
UID:5a3b457df9619a4a1fa28978@squarespace.com
DTSTAMP:20171221T053423Z
DTSTART:20180209T073000Z
DTEND:20180225T053000Z
SUMMARY:MURRAY BRIDGE ROTARY ART SHOW
END:VEVENT
END:VCALENDAR
