BEGIN:VCALENDAR
VERSION:2.0
PRODID:-//Squarespace Inc/Squarespace 6//v6//EN
BEGIN:VEVENT
UID:5bf6300a88251b85d9c870d3@squarespace.com
DTSTAMP:20181221T020835Z
DTSTART:20181207T233000Z
DTEND:20190203T053000Z
SUMMARY:JamFactory ICON: Clare Belfrage: A Measure of Time
END:VEVENT
END:VCALENDAR
