BEGIN:VCALENDAR
VERSION:2.0
PRODID:-//Squarespace Inc/Squarespace 6//v6//EN
BEGIN:VEVENT
UID:5955d61978d171332243e6a2@squarespace.com
DTSTAMP:20170831T075135Z
DTSTART:20170901T003300Z
DTEND:20171015T053000Z
SUMMARY:SALLY DEANS - TIME AND DISTANCE
END:VEVENT
END:VCALENDAR
