BEGIN:VCALENDAR
VERSION:2.0
PRODID:-//Squarespace Inc/Squarespace 6//v6//EN
BEGIN:VEVENT
UID:594c7eb0725e25c149a8cba7@squarespace.com
DTSTAMP:20170831T074954Z
DTSTART:20170901T003000Z
DTEND:20171015T053000Z
SUMMARY:JAMES DODD - SHED WIZARD
END:VEVENT
END:VCALENDAR
