BEGIN:VCALENDAR
VERSION:2.0
PRODID:-//Squarespace Inc/Squarespace 6//v6//EN
BEGIN:VEVENT
UID:59717c91a5790a11605b521c@squarespace.com
DTSTAMP:20170903T024247Z
DTSTART:20170901T003100Z
DTEND:20171015T053000Z
SUMMARY:SOLASTALGIA - LESA FARRANT\, CLAIRE BROOKS\, JO WILMOT
END:VEVENT
END:VCALENDAR
