BEGIN:VCALENDAR
VERSION:2.0
PRODID:-//Squarespace Inc/Squarespace 6//v6//EN
BEGIN:VEVENT
UID:5948d093e3df288213daa0b4@squarespace.com
DTSTAMP:20170623T021725Z
DTSTART:20170721T003000Z
DTEND:20170826T180000Z
SUMMARY:INDIA FLINT - DISQUIET
END:VEVENT
END:VCALENDAR
