BEGIN:VCALENDAR
VERSION:2.0
PRODID:-//Squarespace Inc/Squarespace 6//v6//EN
BEGIN:VEVENT
UID:5948d1a729687f8edc3dd5c8@squarespace.com
DTSTAMP:20170621T022430Z
DTSTART:20170721T003100Z
DTEND:20170827T063000Z
SUMMARY:SILVER AND GOLD: UNIQUE AUSTRALIAN OBJECTS 1830-1910
END:VEVENT
END:VCALENDAR
