BEGIN:VCALENDAR
VERSION:2.0
PRODID:-//Squarespace Inc/Squarespace 6//v6//EN
BEGIN:VEVENT
UID:591547c26a496381cb7b7a2e@squarespace.com
DTSTAMP:20170512T053500Z
DTSTART:20170602T003200Z
DTEND:20170716T063200Z
SUMMARY:WAHINI TOA
END:VEVENT
END:VCALENDAR
