BEGIN:VCALENDAR
VERSION:2.0
PRODID:-//Squarespace Inc/Squarespace 6//v6//EN
BEGIN:VEVENT
UID:58ec7e7fe3df284d3af05ef1@squarespace.com
DTSTAMP:20171108T003436Z
DTSTART:20170602T003100Z
DTEND:20170706T063000Z
SUMMARY:HANDHELD II
END:VEVENT
END:VCALENDAR
