BEGIN:VCALENDAR
VERSION:2.0
PRODID:-//Squarespace Inc/Squarespace 6//v6//EN
BEGIN:VEVENT
UID:58f813d2ebbd1a0ecd263531@squarespace.com
DTSTAMP:20170420T020149Z
DTSTART:20170421T003100Z
DTEND:20170528T063000Z
SUMMARY:UTA MOONEY & GLENN STENSON - PENETRALIA
END:VEVENT
END:VCALENDAR
