BEGIN:VCALENDAR
VERSION:2.0
PRODID:-//Squarespace Inc/Squarespace 6//v6//EN
BEGIN:VEVENT
UID:58f81315e58c621258adcbd0@squarespace.com
DTSTAMP:20170502T050413Z
DTSTART:20170421T003200Z
DTEND:20170528T063000Z
SUMMARY:STEVE OATWAY - FACE TO FACE
END:VEVENT
END:VCALENDAR
