BEGIN:VCALENDAR
VERSION:2.0
PRODID:-//Squarespace Inc/Squarespace 6//v6//EN
BEGIN:VEVENT
UID:58f81456893fc00ac709decc@squarespace.com
DTSTAMP:20170502T055202Z
DTSTART:20170421T003000Z
DTEND:20170528T063000Z
SUMMARY:CAROLE BANN - OBSESSIVE NATURE
END:VEVENT
END:VCALENDAR
