BEGIN:VCALENDAR
VERSION:2.0
PRODID:-//Squarespace Inc/Squarespace 6//v6//EN
BEGIN:VEVENT
UID:58db23a7579fb3ddac61cfb9@squarespace.com
DTSTAMP:20170329T030631Z
DTSTART:20170331T073000Z
DTEND:20170416T063000Z
SUMMARY:ROTARY ART SHOW
END:VEVENT
END:VCALENDAR
