BEGIN:VCALENDAR
VERSION:2.0
PRODID:-//Squarespace Inc/Squarespace 6//v6//EN
BEGIN:VEVENT
UID:58aa4477ff7c50f538ea2d30@squarespace.com
DTSTAMP:20170220T013431Z
DTSTART:20170202T233000Z
DTEND:20170326T053000Z
SUMMARY:LIZ YELLAND - WATER PLANET
END:VEVENT
END:VCALENDAR
