BEGIN:VCALENDAR
VERSION:2.0
PRODID:-//Squarespace Inc/Squarespace 6//v6//EN
BEGIN:VEVENT
UID:58aa3f6ad482e9746481e26c@squarespace.com
DTSTAMP:20170220T020211Z
DTSTART:20170202T233000Z
DTEND:20170326T053000Z
SUMMARY:IRMA DENK - MY LANDSCAPE
END:VEVENT
END:VCALENDAR
