BEGIN:VCALENDAR
VERSION:2.0
PRODID:-//Squarespace Inc/Squarespace 6//v6//EN
BEGIN:VEVENT
UID:58a536c6e6f2e11e8686752e@squarespace.com
DTSTAMP:20170220T014225Z
DTSTART:20170202T233000Z
DTEND:20170326T053000Z
SUMMARY:HAND OVER
END:VEVENT
END:VCALENDAR
