BEGIN:VCALENDAR
VERSION:2.0
PRODID:-//Squarespace Inc/Squarespace 6//v6//EN
BEGIN:VEVENT
UID:59eecb0aaeb62553922db33e@squarespace.com
DTSTAMP:20171024T055744Z
DTSTART:20171207T233000Z
DTEND:20180204T053000Z
SUMMARY:Gail Kellet 20
END:VEVENT
END:VCALENDAR
