BEGIN:VCALENDAR
VERSION:2.0
PRODID:-//Squarespace Inc/Squarespace 6//v6//EN
BEGIN:VEVENT
UID:59eecfee51a584279694c656@squarespace.com
DTSTAMP:20171024T053828Z
DTSTART:20171207T233100Z
DTEND:20180204T053000Z
SUMMARY:ATLAS
END:VEVENT
END:VCALENDAR
