BEGIN:VCALENDAR
VERSION:2.0
PRODID:-//Squarespace Inc/Squarespace 6//v6//EN
BEGIN:VEVENT
UID:59eed1eabe42d6f681f597c5@squarespace.com
DTSTAMP:20180112T044133Z
DTSTART:20171207T233200Z
DTEND:20180204T053000Z
SUMMARY:ANGELA VALAMANESH - EVERYBODY'S EVERYTHING: INSECT/ORCHID
END:VEVENT
END:VCALENDAR
