BEGIN:VCALENDAR
VERSION:2.0
PRODID:-//Squarespace Inc/Squarespace 6//v6//EN
BEGIN:VEVENT
UID:59127736e6f2e1435db6e533@squarespace.com
DTSTAMP:20171127T032937Z
DTSTART:20171019T233000Z
DTEND:20171203T053000Z
SUMMARY:Rotary Youth Art Prize
END:VEVENT
END:VCALENDAR
