BEGIN:VCALENDAR
VERSION:2.0
PRODID:-//Squarespace Inc/Squarespace 6//v6//EN
BEGIN:VEVENT
UID:595dbe483e00be648e506750@squarespace.com
DTSTAMP:20171127T032616Z
DTSTART:20171019T233000Z
DTEND:20171203T053000Z
SUMMARY:JAMFACTORY ICON 2016 GERRY WEDD: KITSCHEN MAN
END:VEVENT
END:VCALENDAR
