BEGIN:VCALENDAR
VERSION:2.0
PRODID:-//Squarespace Inc/Squarespace 6//v6//EN
BEGIN:VEVENT
UID:57f3226ebebafb06f73870b2@squarespace.com
DTSTAMP:20161005T081746Z
DTSTART:20160909T140000Z
DTEND:20161009T200000Z
SUMMARY:FRANZ KEMPF
END:VEVENT
END:VCALENDAR
