BEGIN:VCALENDAR
VERSION:2.0
PRODID:-//Squarespace Inc/Squarespace 6//v6//EN
BEGIN:VEVENT
UID:57f2f3598419c28ec46da222@squarespace.com
DTSTAMP:20161005T041331Z
DTSTART:20160722T140000Z
DTEND:20160904T200000Z
SUMMARY:WINNIE PELZ - Solstice to Solstice
END:VEVENT
END:VCALENDAR
