BEGIN:VCALENDAR
VERSION:2.0
PRODID:-//Squarespace Inc/Squarespace 6//v6//EN
BEGIN:VEVENT
UID:57f3167229687fa67702d797@squarespace.com
DTSTAMP:20161005T041404Z
DTSTART:20160724T140000Z
DTEND:20160905T200000Z
SUMMARY:BITTONDI PRINTMAKERS - Imprimatur: Imprints from the Bridge
END:VEVENT
END:VCALENDAR
