BEGIN:VCALENDAR
VERSION:2.0
PRODID:-//Squarespace Inc/Squarespace 6//v6//EN
BEGIN:VEVENT
UID:58aa2995725e25c4fab542c4@squarespace.com
DTSTAMP:20170220T000634Z
DTSTART:20161201T233000Z
DTEND:20170129T053000Z
SUMMARY:CRAFT ANONYMOUS
END:VEVENT
END:VCALENDAR
