BEGIN:VCALENDAR
VERSION:2.0
PRODID:-//Squarespace Inc/Squarespace 6//v6//EN
BEGIN:VEVENT
UID:57f31e64bebafb06f7384d83@squarespace.com
DTSTAMP:20161005T081108Z
DTSTART:20160909T140000Z
DTEND:20161009T200000Z
SUMMARY:TOK BASUKI
END:VEVENT
END:VCALENDAR
