BEGIN:VCALENDAR
VERSION:2.0
PRODID:-//Squarespace Inc/Squarespace 6//v6//EN
BEGIN:VEVENT
UID:5806edec20099eaea9848fc4@squarespace.com
DTSTAMP:20161019T042534Z
DTSTART:20161014T140000Z
DTEND:20161127T210000Z
SUMMARY:ALEXANDER ARCUS
END:VEVENT
END:VCALENDAR
