BEGIN:VCALENDAR
VERSION:2.0
PRODID:-//Squarespace Inc/Squarespace 6//v6//EN
BEGIN:VEVENT
UID:5806f15ee6f2e1acf20da329@squarespace.com
DTSTAMP:20161019T042503Z
DTSTART:20161014T140000Z
DTEND:20161127T210000Z
SUMMARY:MICHAEL CHORNEY
END:VEVENT
END:VCALENDAR
