BEGIN:VCALENDAR
VERSION:2.0
PRODID:-//Squarespace Inc/Squarespace 6//v6//EN
BEGIN:VEVENT
UID:5806f39e197aeafadf8094df@squarespace.com
DTSTAMP:20161019T042603Z
DTSTART:20161014T140000Z
DTEND:20161127T210000Z
SUMMARY:GLEN ASH\, LLEWELYN ASH\, JANET AYLIFFE
END:VEVENT
END:VCALENDAR
